BEGIN:VCALENDAR
VERSION:2.0
PRODID:-//Mesquite Christian Academy - ECPv6.15.20//NONSGML v1.0//EN
CALSCALE:GREGORIAN
METHOD:PUBLISH
X-ORIGINAL-URL:https://mesquitechristianacademy.org
X-WR-CALDESC:Events for Mesquite Christian Academy
REFRESH-INTERVAL;VALUE=DURATION:PT1H
X-Robots-Tag:noindex
X-PUBLISHED-TTL:PT1H
BEGIN:VTIMEZONE
TZID:America/Los_Angeles
BEGIN:DAYLIGHT
TZOFFSETFROM:-0800
TZOFFSETTO:-0700
TZNAME:PDT
DTSTART:20220313T100000
END:DAYLIGHT
BEGIN:STANDARD
TZOFFSETFROM:-0700
TZOFFSETTO:-0800
TZNAME:PST
DTSTART:20221106T090000
END:STANDARD
BEGIN:DAYLIGHT
TZOFFSETFROM:-0800
TZOFFSETTO:-0700
TZNAME:PDT
DTSTART:20230312T100000
END:DAYLIGHT
BEGIN:STANDARD
TZOFFSETFROM:-0700
TZOFFSETTO:-0800
TZNAME:PST
DTSTART:20231105T090000
END:STANDARD
BEGIN:DAYLIGHT
TZOFFSETFROM:-0800
TZOFFSETTO:-0700
TZNAME:PDT
DTSTART:20240310T100000
END:DAYLIGHT
BEGIN:STANDARD
TZOFFSETFROM:-0700
TZOFFSETTO:-0800
TZNAME:PST
DTSTART:20241103T090000
END:STANDARD
BEGIN:DAYLIGHT
TZOFFSETFROM:-0800
TZOFFSETTO:-0700
TZNAME:PDT
DTSTART:20250309T100000
END:DAYLIGHT
BEGIN:STANDARD
TZOFFSETFROM:-0700
TZOFFSETTO:-0800
TZNAME:PST
DTSTART:20251102T090000
END:STANDARD
BEGIN:DAYLIGHT
TZOFFSETFROM:-0800
TZOFFSETTO:-0700
TZNAME:PDT
DTSTART:20260308T100000
END:DAYLIGHT
BEGIN:STANDARD
TZOFFSETFROM:-0700
TZOFFSETTO:-0800
TZNAME:PST
DTSTART:20261101T090000
END:STANDARD
END:VTIMEZONE
BEGIN:VTIMEZONE
TZID:UTC
BEGIN:STANDARD
TZOFFSETFROM:+0000
TZOFFSETTO:+0000
TZNAME:UTC
DTSTART:20180101T000000
END:STANDARD
END:VTIMEZONE
BEGIN:VEVENT
DTSTART;TZID=America/Los_Angeles:20251211T180000
DTEND;TZID=America/Los_Angeles:20251211T200000
DTSTAMP:20260423T175053
CREATED:20251120T230645Z
LAST-MODIFIED:20251120T233736Z
UID:5337-1765476000-1765483200@mesquitechristianacademy.org
SUMMARY:MCA Christmas Program
DESCRIPTION:Join us for a joyful evening as Mesquite Christian Academy presents our annual Christmas Program\, a heartfelt celebration of the birth of Jesus Christ. Our elementary students have prepared a special presentation filled with the true spirit of Christmas\, reminding us of the hope and love found in our Savior. \nThis year’s program will be held on: \n📅 Thursday\, December 11⏰ 6:00 p.m.📍 River Valley Bible Church322 E. Hafen Lane \nFollowing the program\, guests are invited to stay for refreshments and fellowship as we celebrate this blessed season together. We warmly welcome families\, friends\, and community members to join us for this meaningful event. \nCome share in the joy of Christmas with us!
URL:https://mesquitechristianacademy.org/event/mca-christmas-program/
LOCATION:River Valley Bible Church\, 322 Hafen Lane\, Mesquite\, 89027\, United States
CATEGORIES:Christmas
ATTACH;FMTTYPE=image/jpeg:https://mesquitechristianacademy.org/wp-content/uploads/2019/06/christmas-ornament.jpg
END:VEVENT
BEGIN:VEVENT
DTSTART;TZID=America/Los_Angeles:20231213T183000
DTEND;TZID=America/Los_Angeles:20231213T183000
DTSTAMP:20260423T175053
CREATED:20231109T174824Z
LAST-MODIFIED:20231109T183356Z
UID:4977-1702492200-1702492200@mesquitechristianacademy.org
SUMMARY:MCA's Annual Christmas Program
DESCRIPTION:M \n  \n  \nMCA’s annual Christmas program \nThursday\, December 14th – 6:30 p.m.  \nat River Valley Bible Church \n322 Hafen Lane \nMesquite\, NV 89027 \nPlease invite family and friends!
URL:https://mesquitechristianacademy.org/event/mcas-annual-christmas-program/
LOCATION:River Valley Bible Church\, 322 Hafen Lane\, Mesquite\, 89027\, United States
CATEGORIES:Christmas
ATTACH;FMTTYPE=image/jpeg:https://mesquitechristianacademy.org/wp-content/uploads/2023/11/pexels-arina-krasnikova-6212488-scaled.jpg
END:VEVENT
BEGIN:VEVENT
DTSTART;TZID=America/Los_Angeles:20231206T173000
DTEND;TZID=America/Los_Angeles:20231206T173000
DTSTAMP:20260423T175053
CREATED:20231109T175704Z
LAST-MODIFIED:20231109T183249Z
UID:4981-1701883800-1701883800@mesquitechristianacademy.org
SUMMARY:Christmas Parade of Lights
DESCRIPTION:M \n  \n  \n–  MCA will have a float in the parade – \nThursday\, December 7th\, at 5:30 p.m. \nWe would like the students to be on the float\, \nor walking beside it. \nThe entry fee is 25 lbs. of food to be donated to the needy. \nWe are asking families to donate 2-3 cans of food.  \nPlease leave at the front desk. \nThank you!
URL:https://mesquitechristianacademy.org/event/christmas-parade-of-lights/
CATEGORIES:Christmas
ATTACH;FMTTYPE=image/jpeg:https://mesquitechristianacademy.org/wp-content/uploads/2023/11/pexels-jonathan-meyer-752484-scaled.jpg
END:VEVENT
BEGIN:VEVENT
DTSTART;TZID=UTC:20191215T140000
DTEND;TZID=UTC:20191215T160000
DTSTAMP:20260423T175053
CREATED:20190604T101906Z
LAST-MODIFIED:20200209T211058Z
UID:1167-1576418400-1576425600@mesquitechristianacademy.org
SUMMARY:Christmas Ornament Gift Exchange and Potluck
DESCRIPTION:Join Mesquite Christian Academy students at River Valley Bible’s Women’s Christmas ornament gift exchange and pot luck.
URL:https://mesquitechristianacademy.org/event/christmas-ornament-gift-exchange-potluck/
LOCATION:River Valley Bible Church\, 322 Hafen Lane\, Mesquite\, 89027\, United States
CATEGORIES:Christmas,Church,Community
ATTACH;FMTTYPE=image/jpeg:https://mesquitechristianacademy.org/wp-content/uploads/2019/06/christmas-ornament.jpg
ORGANIZER;CN="River Valley Bible Church":MAILTO:rivervalleybiblechurch@gmail.com
END:VEVENT
END:VCALENDAR