BEGIN:VCALENDAR
VERSION:2.0
PRODID:-//Mesquite Christian Academy - ECPv6.15.20//NONSGML v1.0//EN
CALSCALE:GREGORIAN
METHOD:PUBLISH
X-WR-CALNAME:Mesquite Christian Academy
X-ORIGINAL-URL:https://mesquitechristianacademy.org
X-WR-CALDESC:Events for Mesquite Christian Academy
REFRESH-INTERVAL;VALUE=DURATION:PT1H
X-Robots-Tag:noindex
X-PUBLISHED-TTL:PT1H
BEGIN:VTIMEZONE
TZID:America/Los_Angeles
BEGIN:DAYLIGHT
TZOFFSETFROM:-0800
TZOFFSETTO:-0700
TZNAME:PDT
DTSTART:20190310T100000
END:DAYLIGHT
BEGIN:STANDARD
TZOFFSETFROM:-0700
TZOFFSETTO:-0800
TZNAME:PST
DTSTART:20191103T090000
END:STANDARD
BEGIN:DAYLIGHT
TZOFFSETFROM:-0800
TZOFFSETTO:-0700
TZNAME:PDT
DTSTART:20200308T100000
END:DAYLIGHT
BEGIN:STANDARD
TZOFFSETFROM:-0700
TZOFFSETTO:-0800
TZNAME:PST
DTSTART:20201101T090000
END:STANDARD
BEGIN:DAYLIGHT
TZOFFSETFROM:-0800
TZOFFSETTO:-0700
TZNAME:PDT
DTSTART:20210314T100000
END:DAYLIGHT
BEGIN:STANDARD
TZOFFSETFROM:-0700
TZOFFSETTO:-0800
TZNAME:PST
DTSTART:20211107T090000
END:STANDARD
BEGIN:DAYLIGHT
TZOFFSETFROM:-0800
TZOFFSETTO:-0700
TZNAME:PDT
DTSTART:20220313T100000
END:DAYLIGHT
BEGIN:STANDARD
TZOFFSETFROM:-0700
TZOFFSETTO:-0800
TZNAME:PST
DTSTART:20221106T090000
END:STANDARD
BEGIN:DAYLIGHT
TZOFFSETFROM:-0800
TZOFFSETTO:-0700
TZNAME:PDT
DTSTART:20230312T100000
END:DAYLIGHT
BEGIN:STANDARD
TZOFFSETFROM:-0700
TZOFFSETTO:-0800
TZNAME:PST
DTSTART:20231105T090000
END:STANDARD
BEGIN:DAYLIGHT
TZOFFSETFROM:-0800
TZOFFSETTO:-0700
TZNAME:PDT
DTSTART:20240310T100000
END:DAYLIGHT
BEGIN:STANDARD
TZOFFSETFROM:-0700
TZOFFSETTO:-0800
TZNAME:PST
DTSTART:20241103T090000
END:STANDARD
BEGIN:DAYLIGHT
TZOFFSETFROM:-0800
TZOFFSETTO:-0700
TZNAME:PDT
DTSTART:20250309T100000
END:DAYLIGHT
BEGIN:STANDARD
TZOFFSETFROM:-0700
TZOFFSETTO:-0800
TZNAME:PST
DTSTART:20251102T090000
END:STANDARD
BEGIN:DAYLIGHT
TZOFFSETFROM:-0800
TZOFFSETTO:-0700
TZNAME:PDT
DTSTART:20260308T100000
END:DAYLIGHT
BEGIN:STANDARD
TZOFFSETFROM:-0700
TZOFFSETTO:-0800
TZNAME:PST
DTSTART:20261101T090000
END:STANDARD
END:VTIMEZONE
BEGIN:VTIMEZONE
TZID:UTC
BEGIN:STANDARD
TZOFFSETFROM:+0000
TZOFFSETTO:+0000
TZNAME:UTC
DTSTART:20170101T000000
END:STANDARD
END:VTIMEZONE
BEGIN:VEVENT
DTSTART;TZID=America/Los_Angeles:20251211T180000
DTEND;TZID=America/Los_Angeles:20251211T200000
DTSTAMP:20260423T160951
CREATED:20251120T230645Z
LAST-MODIFIED:20251120T233736Z
UID:5337-1765476000-1765483200@mesquitechristianacademy.org
SUMMARY:MCA Christmas Program
DESCRIPTION:Join us for a joyful evening as Mesquite Christian Academy presents our annual Christmas Program\, a heartfelt celebration of the birth of Jesus Christ. Our elementary students have prepared a special presentation filled with the true spirit of Christmas\, reminding us of the hope and love found in our Savior. \nThis year’s program will be held on: \n📅 Thursday\, December 11⏰ 6:00 p.m.📍 River Valley Bible Church322 E. Hafen Lane \nFollowing the program\, guests are invited to stay for refreshments and fellowship as we celebrate this blessed season together. We warmly welcome families\, friends\, and community members to join us for this meaningful event. \nCome share in the joy of Christmas with us!
URL:https://mesquitechristianacademy.org/event/mca-christmas-program/
LOCATION:River Valley Bible Church\, 322 Hafen Lane\, Mesquite\, 89027\, United States
CATEGORIES:Christmas
ATTACH;FMTTYPE=image/jpeg:https://mesquitechristianacademy.org/wp-content/uploads/2019/06/christmas-ornament.jpg
END:VEVENT
BEGIN:VEVENT
DTSTART;TZID=America/Los_Angeles:20231213T183000
DTEND;TZID=America/Los_Angeles:20231213T183000
DTSTAMP:20260423T160951
CREATED:20231109T174824Z
LAST-MODIFIED:20231109T183356Z
UID:4977-1702492200-1702492200@mesquitechristianacademy.org
SUMMARY:MCA's Annual Christmas Program
DESCRIPTION:M \n  \n  \nMCA’s annual Christmas program \nThursday\, December 14th – 6:30 p.m.  \nat River Valley Bible Church \n322 Hafen Lane \nMesquite\, NV 89027 \nPlease invite family and friends!
URL:https://mesquitechristianacademy.org/event/mcas-annual-christmas-program/
LOCATION:River Valley Bible Church\, 322 Hafen Lane\, Mesquite\, 89027\, United States
CATEGORIES:Christmas
ATTACH;FMTTYPE=image/jpeg:https://mesquitechristianacademy.org/wp-content/uploads/2023/11/pexels-arina-krasnikova-6212488-scaled.jpg
END:VEVENT
BEGIN:VEVENT
DTSTART;TZID=America/Los_Angeles:20231206T173000
DTEND;TZID=America/Los_Angeles:20231206T173000
DTSTAMP:20260423T160951
CREATED:20231109T175704Z
LAST-MODIFIED:20231109T183249Z
UID:4981-1701883800-1701883800@mesquitechristianacademy.org
SUMMARY:Christmas Parade of Lights
DESCRIPTION:M \n  \n  \n–  MCA will have a float in the parade – \nThursday\, December 7th\, at 5:30 p.m. \nWe would like the students to be on the float\, \nor walking beside it. \nThe entry fee is 25 lbs. of food to be donated to the needy. \nWe are asking families to donate 2-3 cans of food.  \nPlease leave at the front desk. \nThank you!
URL:https://mesquitechristianacademy.org/event/christmas-parade-of-lights/
CATEGORIES:Christmas
ATTACH;FMTTYPE=image/jpeg:https://mesquitechristianacademy.org/wp-content/uploads/2023/11/pexels-jonathan-meyer-752484-scaled.jpg
END:VEVENT
BEGIN:VEVENT
DTSTART;TZID=America/Los_Angeles:20221015T100000
DTEND;TZID=America/Los_Angeles:20221015T150000
DTSTAMP:20260423T160951
CREATED:20220710T220256Z
LAST-MODIFIED:20220811T030045Z
UID:4287-1665828000-1665846000@mesquitechristianacademy.org
SUMMARY:Inaugural Poker Run to Benefit MCA
DESCRIPTION:MMCA Poker Run \n$20 Rider\, $10 Passenger\, $10 Extra hand \n(Click on the “M” in the box to view flyer)
URL:https://mesquitechristianacademy.org/event/inaugural-poker-run-to-benefit-mca/
LOCATION:Mesquite Christian Academy\, 315 Calais Drive\, Mesquite\, NV\, 89027\, United States
CATEGORIES:Fundraiser
END:VEVENT
BEGIN:VEVENT
DTSTART;VALUE=DATE:20200328
DTEND;VALUE=DATE:20200329
DTSTAMP:20260423T160951
CREATED:20200210T095219Z
LAST-MODIFIED:20200210T095219Z
UID:2027-1585353600-1585439999@mesquitechristianacademy.org
SUMMARY:First Annual BBQ Fundraiser
DESCRIPTION:The 1st Annual MCA BBQ raises funds to support the continuation and growth of Mesquite Christian Academy. MCA families\, students\, and community friends work together to create a delicious meal that is sure to be a much anticipated annual community event. Don’t miss this once a year chance to get your  BBQ dinner! \nThis barbeque raises money to support Mesquite Christian Academy’s Educational Development Programs and Retreats which provide students the opportunity to reach their full God-given potential and to be treated as valued members of our community. To God Be the Glory! \nTickets for this BBQ must be purchased in advance.    \nBBQ is seasoned with our secret rub blend\, then smoked slowly over the coals of mesquite wood. It is served with ranch style beans\, a green salad\, and toasted garlic bread.  \nSale end on March 20\, 2020. Pick up your bbq on March 28\, 2020\nFeeds 4 people and includes Smoked bbq\, beans\, garlic bread and salad This meal is valued at $30.00\, and all proceeds benefit Mesquite Christian Academy.
URL:https://mesquitechristianacademy.org/event/first-annual-bbq-fundraiser/
LOCATION:Mesquite Christian Academy\, 315 Calais Drive\, Mesquite\, NV\, 89027\, United States
CATEGORIES:Fundraiser
ATTACH;FMTTYPE=image/jpeg:https://mesquitechristianacademy.org/wp-content/uploads/2020/02/bbq-fundraiser.jpg
END:VEVENT
BEGIN:VEVENT
DTSTART;VALUE=DATE:20200210
DTEND;VALUE=DATE:20200211
DTSTAMP:20260423T160951
CREATED:20200210T102810Z
LAST-MODIFIED:20200210T102810Z
UID:2032-1581292800-1581379199@mesquitechristianacademy.org
SUMMARY:Annual Gala Dinner
DESCRIPTION:STAY TUNED FOR FINAL DATE AND TIX PURCHASING DETAILS \nThis year’s Gala will include a delicious meal\, music\, special entertainment by comedian and magician Jason Bird (star of the hit tv and LIVE stage show “Masters of Illusion”)\, raffle drawings\, an incredible silent auction and an exciting live auction. And all to benefit Mesquite Christian Academy’s Scholarship Funds\, which directly helps students who rely on tuition assistance to attend Mesquite Christian Academy.  \nJoin us for our first annual Gala Night- please pay for your individual tickets ($125) or table (starting at $1\,250) soon. If you are a table sponsor\, you will be guaranteed recognition in all published materials for the Gala.
URL:https://mesquitechristianacademy.org/event/annual-gala-dinner/
LOCATION:Elks Lodge\, 545 Riverside Road\, Mesquite\, NV\, 89027\, United States
CATEGORIES:Fundraiser
ATTACH;FMTTYPE=image/jpeg:https://mesquitechristianacademy.org/wp-content/uploads/2019/07/bg4.jpg
END:VEVENT
BEGIN:VEVENT
DTSTART;TZID=UTC:20191215T140000
DTEND;TZID=UTC:20191215T160000
DTSTAMP:20260423T160951
CREATED:20190604T101906Z
LAST-MODIFIED:20200209T211058Z
UID:1167-1576418400-1576425600@mesquitechristianacademy.org
SUMMARY:Christmas Ornament Gift Exchange and Potluck
DESCRIPTION:Join Mesquite Christian Academy students at River Valley Bible’s Women’s Christmas ornament gift exchange and pot luck.
URL:https://mesquitechristianacademy.org/event/christmas-ornament-gift-exchange-potluck/
LOCATION:River Valley Bible Church\, 322 Hafen Lane\, Mesquite\, 89027\, United States
CATEGORIES:Christmas,Church,Community
ATTACH;FMTTYPE=image/jpeg:https://mesquitechristianacademy.org/wp-content/uploads/2019/06/christmas-ornament.jpg
ORGANIZER;CN="River Valley Bible Church":MAILTO:rivervalleybiblechurch@gmail.com
END:VEVENT
BEGIN:VEVENT
DTSTART;TZID=UTC:20191124T130000
DTEND;TZID=UTC:20191124T163000
DTSTAMP:20260423T160951
CREATED:20190604T101723Z
LAST-MODIFIED:20200209T211737Z
UID:1166-1574600400-1574613000@mesquitechristianacademy.org
SUMMARY:Thanksgiving Gathering with the Mesquite Senior Center
DESCRIPTION:Gather with our friends at the Mesquite Senior Center for a Thanksgiving Meal shared with our friends at the Senior Center.
URL:https://mesquitechristianacademy.org/event/thanksgiving-gathering-senior-center/
LOCATION:Mesquite Senior Center\, 102 W Old Mill Rd\, Mesquite\, NV\, 89027\, United States
CATEGORIES:Community
ATTACH;FMTTYPE=image/jpeg:https://mesquitechristianacademy.org/wp-content/uploads/2019/06/christmas-buffet-potluck.jpg
END:VEVENT
BEGIN:VEVENT
DTSTART;TZID=UTC:20191116T160000
DTEND;TZID=UTC:20201226T190000
DTSTAMP:20260423T160951
CREATED:20190603T150820Z
LAST-MODIFIED:20200209T213705Z
UID:1019-1573920000-1609009200@mesquitechristianacademy.org
SUMMARY:First Annual Chili Cook-Off Fundraiser
DESCRIPTION:Come help support Mesquite Christian Academy with our First Annual Chili Cook Off\, Saturday November 16th from 4:00 p.m.- 7:00 p.m. at the Elks Lodge on 545 Riverside Road\, Mesquite\, NV 89027. If you would like to participate in making a chili please sign up at the school or call 702-613-5863. Spots are limited to 20 entries. Tickets will be on sale for $10.00 each or $50.00 per family (5 or more) Their will also be a silent auction. If you have any items to donate please drop them off at the school. We look forward to seeing you and we thank you for your support. \n\nRealizing potential\nOur main aim is to ensure access to quality education for our students.  Your support will help us to provide a our students to realise their potential. \nDo you have an award deserving Chili? Do you want to sample the best of Mesquite’s Chili Mavens? Then enter your chili or come on out to enjoy an afternoon with your community!  Feeling lucky? We have a great Silent Auction with AMAZING prizes! \nTICKETS ONLY $10/each or $50/family! 
URL:https://mesquitechristianacademy.org/event/annual-chili-cookoff-fundraiser/
LOCATION:Elks Lodge\, 545 Riverside Road\, Mesquite\, NV\, 89027\, United States
CATEGORIES:Community,Fundraiser
ATTACH;FMTTYPE=image/jpeg:https://mesquitechristianacademy.org/wp-content/uploads/2019/06/christmas-potluck.jpg
END:VEVENT
BEGIN:VEVENT
DTSTART;TZID=UTC:20181204T100000
DTEND;TZID=UTC:20181204T223000
DTSTAMP:20260423T160951
CREATED:20190604T100827Z
LAST-MODIFIED:20200209T214515Z
UID:1164-1543917600-1543962600@mesquitechristianacademy.org
SUMMARY:Ribbon Cutting
DESCRIPTION:Join us December 4\, 2018 at 10am for our GRAND RIBBON CUTTING ceremony! \n 
URL:https://mesquitechristianacademy.org/event/ribbon-cutting/
LOCATION:Mesquite Christian Academy\, 315 Calais Drive\, Mesquite\, NV\, 89027\, United States
CATEGORIES:Community,Education
ATTACH;FMTTYPE=image/jpeg:https://mesquitechristianacademy.org/wp-content/uploads/2019/06/ribbon-cutting.jpg
END:VEVENT
BEGIN:VEVENT
DTSTART;TZID=UTC:20180720T080000
DTEND;TZID=UTC:20210813T170000
DTSTAMP:20260423T160951
CREATED:20190604T101226Z
LAST-MODIFIED:20190625T132601Z
UID:1165-1532073600-1628874000@mesquitechristianacademy.org
SUMMARY:Supporting Education
DESCRIPTION:72 million children around the world are not enrolled in school; Concern Worldwide focuses on providing basic education to those who need it most. Access to education is not only a basic human right\, but also a key factor in reducing poverty and child labour. \nOur main aim is to ensure access to quality education for the poorest and most marginalised people. But access is not enough. Once in school\, children need to be assured of a safe environment enabling them to realise their potential. As a minimum standard\, we believe that education must result in sufficient levels of literacy and numeracy. This enables people to lift themselves out of poverty and continue to improve their lives.
URL:https://mesquitechristianacademy.org/event/supporting-education/
LOCATION:Mesquite Christian Academy\, 315 Calais Drive\, Mesquite\, NV\, 89027\, United States
CATEGORIES:Charity,Education
ATTACH;FMTTYPE=image/jpeg:https://mesquitechristianacademy.org/wp-content/uploads/2017/06/schulprojekt-big-1.jpg
END:VEVENT
END:VCALENDAR