BEGIN:VCALENDAR
VERSION:2.0
PRODID:-//Mesquite Christian Academy - ECPv6.15.20//NONSGML v1.0//EN
CALSCALE:GREGORIAN
METHOD:PUBLISH
X-ORIGINAL-URL:https://mesquitechristianacademy.org
X-WR-CALDESC:Events for Mesquite Christian Academy
REFRESH-INTERVAL;VALUE=DURATION:PT1H
X-Robots-Tag:noindex
X-PUBLISHED-TTL:PT1H
BEGIN:VTIMEZONE
TZID:America/Los_Angeles
BEGIN:DAYLIGHT
TZOFFSETFROM:-0800
TZOFFSETTO:-0700
TZNAME:PDT
DTSTART:20250309T100000
END:DAYLIGHT
BEGIN:STANDARD
TZOFFSETFROM:-0700
TZOFFSETTO:-0800
TZNAME:PST
DTSTART:20251102T090000
END:STANDARD
BEGIN:DAYLIGHT
TZOFFSETFROM:-0800
TZOFFSETTO:-0700
TZNAME:PDT
DTSTART:20260308T100000
END:DAYLIGHT
BEGIN:STANDARD
TZOFFSETFROM:-0700
TZOFFSETTO:-0800
TZNAME:PST
DTSTART:20261101T090000
END:STANDARD
BEGIN:DAYLIGHT
TZOFFSETFROM:-0800
TZOFFSETTO:-0700
TZNAME:PDT
DTSTART:20270314T100000
END:DAYLIGHT
BEGIN:STANDARD
TZOFFSETFROM:-0700
TZOFFSETTO:-0800
TZNAME:PST
DTSTART:20271107T090000
END:STANDARD
END:VTIMEZONE
BEGIN:VEVENT
DTSTART;TZID=America/Los_Angeles:20260418T080000
DTEND;TZID=America/Los_Angeles:20260418T130000
DTSTAMP:20260423T142027
CREATED:20260227T172130Z
LAST-MODIFIED:20260227T172130Z
UID:5356-1776499200-1776517200@mesquitechristianacademy.org
SUMMARY:Golf Tournament Fundraiser - Fairways for the Future
DESCRIPTION:Join us for a day on the course in support of Mesquite Christian Academy! This charity golf tournament brings together golfers\, local businesses\, and community members for a fun and meaningful event benefiting Christ-centered education in Mesquite. \nGolfers of all skill levels are welcome to enjoy friendly competition\, exciting on-course challenges\, and the opportunity to give back to our local school. \n  \n\nTournament Features\n\n$10\,000 Hole In One Prize!\n\n\nLongest Drive\n\n\nClosest to Pin\n\n*Additional prizes and drawings throughout the event \n  \n\n\nRegistration\n\nEntry fee includes: 9 holes of golf\, golf cart\, breakfast items available\, entry into on-course contests\, opportunity to win exciting prizes!\n\n  \nRegistration & Payment Information\nAll golfer registrations must be completed with payment through Give Butter.\nSpots are limited and will be reserved on a first-come\, first-paid basis. \nIf you are unable to attend\, your registration will be considered a donation to Mesquite Christian School. No refunds will be issued for no-shows. \n  \n  \nRegister today!\nhttps://givebutter.com/fairwaysforthefuture \n  \n\n  \nEvent Details\nDate: April 18th\nLocation: Coyote Willows Golf Course\nCheck-In Start Time: 7:00AM\nShotgun Start: 8AM \n  \nWhy Participate?\nYour participation helps support the students\, teachers\, and programs of Mesquite Christian Academy while enjoying a well-organized day of golf and community fellowship. \n  \n\nMesquite Christian Academy is a 501(c)(3) nonprofit organization. Proceeds from this event directly support school programs and initiatives. \n  \n  \n 
URL:https://mesquitechristianacademy.org/event/golf-tournament-fundraiser-fairways-for-the-future/
LOCATION:Coyote Willows Golf Course\, 426 Hagens Alley\, Mesquite\, NV\, 89027\, United States
CATEGORIES:Community,Fundraiser
ATTACH;FMTTYPE=image/png:https://mesquitechristianacademy.org/wp-content/uploads/2026/02/Event-Banner-4.png
END:VEVENT
BEGIN:VEVENT
DTSTART;TZID=America/Los_Angeles:20260430T180000
DTEND;TZID=America/Los_Angeles:20260430T193000
DTSTAMP:20260423T142027
CREATED:20260421T204253Z
LAST-MODIFIED:20260421T204549Z
UID:5387-1777572000-1777577400@mesquitechristianacademy.org
SUMMARY:Spring Concert
DESCRIPTION:Mesquite Christian Academy invites you to join us for our Spring Concert! \n  \nWhen: April 30th \nTime: 6:00pm \nWhere: River Valley Bible Church \n322 E. Hafen Lane \n  \nJoin our K-8 students in celebrating the wonder and joy of God’s glorious creation. Invite your friends and family to join us for an evening of blessing through music and fellowship. \n  \nRefreshments and fellowship to follow!
URL:https://mesquitechristianacademy.org/event/spring-concert/
LOCATION:River Valley Bible Church\, 322 Hafen Lane\, Mesquite\, 89027\, United States
CATEGORIES:Community
ATTACH;FMTTYPE=image/jpeg:https://mesquitechristianacademy.org/wp-content/uploads/2026/04/gd0c644be69c55ef4dc023008f2322063d2183e9ab63679716e2901b46f46b1da939b5bbe18190e035864b9547e4c7bf1071cc925ce5a274155a75b75df291dd0_1280-7107045.jpg
END:VEVENT
END:VCALENDAR