BEGIN:VCALENDAR
VERSION:2.0
PRODID:-//Mesquite Christian Academy - ECPv6.15.20//NONSGML v1.0//EN
CALSCALE:GREGORIAN
METHOD:PUBLISH
X-WR-CALNAME:Mesquite Christian Academy
X-ORIGINAL-URL:https://mesquitechristianacademy.org
X-WR-CALDESC:Events for Mesquite Christian Academy
REFRESH-INTERVAL;VALUE=DURATION:PT1H
X-Robots-Tag:noindex
X-PUBLISHED-TTL:PT1H
BEGIN:VTIMEZONE
TZID:America/Los_Angeles
BEGIN:DAYLIGHT
TZOFFSETFROM:-0800
TZOFFSETTO:-0700
TZNAME:PDT
DTSTART:20240310T100000
END:DAYLIGHT
BEGIN:STANDARD
TZOFFSETFROM:-0700
TZOFFSETTO:-0800
TZNAME:PST
DTSTART:20241103T090000
END:STANDARD
BEGIN:DAYLIGHT
TZOFFSETFROM:-0800
TZOFFSETTO:-0700
TZNAME:PDT
DTSTART:20250309T100000
END:DAYLIGHT
BEGIN:STANDARD
TZOFFSETFROM:-0700
TZOFFSETTO:-0800
TZNAME:PST
DTSTART:20251102T090000
END:STANDARD
BEGIN:DAYLIGHT
TZOFFSETFROM:-0800
TZOFFSETTO:-0700
TZNAME:PDT
DTSTART:20260308T100000
END:DAYLIGHT
BEGIN:STANDARD
TZOFFSETFROM:-0700
TZOFFSETTO:-0800
TZNAME:PST
DTSTART:20261101T090000
END:STANDARD
END:VTIMEZONE
BEGIN:VEVENT
DTSTART;TZID=America/Los_Angeles:20251211T180000
DTEND;TZID=America/Los_Angeles:20251211T200000
DTSTAMP:20260423T141446
CREATED:20251120T230645Z
LAST-MODIFIED:20251120T233736Z
UID:5337-1765476000-1765483200@mesquitechristianacademy.org
SUMMARY:MCA Christmas Program
DESCRIPTION:Join us for a joyful evening as Mesquite Christian Academy presents our annual Christmas Program\, a heartfelt celebration of the birth of Jesus Christ. Our elementary students have prepared a special presentation filled with the true spirit of Christmas\, reminding us of the hope and love found in our Savior. \nThis year’s program will be held on: \n📅 Thursday\, December 11⏰ 6:00 p.m.📍 River Valley Bible Church322 E. Hafen Lane \nFollowing the program\, guests are invited to stay for refreshments and fellowship as we celebrate this blessed season together. We warmly welcome families\, friends\, and community members to join us for this meaningful event. \nCome share in the joy of Christmas with us!
URL:https://mesquitechristianacademy.org/event/mca-christmas-program/
LOCATION:River Valley Bible Church\, 322 Hafen Lane\, Mesquite\, 89027\, United States
CATEGORIES:Christmas
ATTACH;FMTTYPE=image/jpeg:https://mesquitechristianacademy.org/wp-content/uploads/2019/06/christmas-ornament.jpg
END:VEVENT
END:VCALENDAR